BEGIN:VCALENDAR
VERSION:2.0
PRODID:-//ChamberMaster//Event Calendar 2.0//EN
METHOD:PUBLISH
X-PUBLISHED-TTL:P3D
REFRESH-INTERVAL:P3D
CALSCALE:GREGORIAN
BEGIN:VEVENT
DTSTART:20190906T203000Z
DTEND:20190906T210000Z
X-MICROSOFT-CDO-ALLDAYEVENT:FALSE
SUMMARY:Groundbreaking Kinnick to Raccoon Trail Improvement Project
DESCRIPTION:Groundbreaking for the Kinnick to Raccoon Trail Improvement Project\n\nThe trees will be planted on Friday with the help from MCClure Engineering
X-ALT-DESC;FMTTYPE=text/html:Groundbreaking for the Kinnick to Raccoon Trail Improvement Project<br />\nThe trees will be planted on Friday with the help from MCClure Engineering&nbsp\;
LOCATION:Pedal Plaza Hwy 169 & RRVT (Raccoon River Valley Trail)
UID:e.2561.3263
SEQUENCE:3
DTSTAMP:20260424T092536Z
URL:https://business.adelpartners.org/events/details/groundbreaking-kinnick-to-raccoon-trail-improvement-project-3263
END:VEVENT

END:VCALENDAR
