BEGIN:VCALENDAR
VERSION:2.0
PRODID:-//ChamberMaster//Event Calendar 2.0//EN
METHOD:PUBLISH
X-PUBLISHED-TTL:P3D
REFRESH-INTERVAL:P3D
CALSCALE:GREGORIAN
BEGIN:VEVENT
DTSTART:20220611T150000Z
DTEND:20220611T210000Z
X-MICROSOFT-CDO-ALLDAYEVENT:FALSE
SUMMARY:Handmade Arts & Craft in the Vineyard
DESCRIPTION:Handmade Arts & Crafts event at Penoach Winery with music\, food\, face painting and wine! Grab your friends and come out for a fun day!
X-ALT-DESC;FMTTYPE=text/html:Handmade Arts &amp\; Crafts event at Penoach Winery with music\, food\, face painting and wine! Grab your friends and come out for a fun day!
LOCATION:Penoach Winery
UID:e.2561.3477
SEQUENCE:3
DTSTAMP:20260422T135306Z
URL:https://business.adelpartners.org/events/details/handmade-arts-craft-in-the-vineyard-3477
END:VEVENT

END:VCALENDAR
