BEGIN:VCALENDAR
VERSION:2.0
PRODID:-//ChamberMaster//Event Calendar 2.0//EN
METHOD:PUBLISH
X-PUBLISHED-TTL:P3D
REFRESH-INTERVAL:P3D
CALSCALE:GREGORIAN
BEGIN:VEVENT
DTSTART:20230610T150000Z
DTEND:20230610T200000Z
X-MICROSOFT-CDO-ALLDAYEVENT:FALSE
SUMMARY:Handmade Arts & Crafts in the Vineyard
DESCRIPTION:Handmade Arts & Crafts event at Penoach Winery. We will have 40+ artist and crafters\, music\, food\, and wine! All are welcome
X-ALT-DESC;FMTTYPE=text/html:Handmade Arts &amp\; Crafts event at Penoach Winery. We will have 40+ artist and crafters\, music\, food\, and wine! All are welcome
LOCATION:Penoach Winery
UID:e.2561.3508
SEQUENCE:3
DTSTAMP:20260421T232930Z
URL:https://business.adelpartners.org/events/details/handmade-arts-crafts-in-the-vineyard-3508
END:VEVENT

END:VCALENDAR
