BEGIN:VCALENDAR
VERSION:2.0
PRODID:-//ChamberMaster//Event Calendar 2.0//EN
METHOD:PUBLISH
X-PUBLISHED-TTL:P3D
REFRESH-INTERVAL:P3D
CALSCALE:GREGORIAN
BEGIN:VEVENT
DTSTART:20221204T200000Z
DTEND:20221204T220000Z
X-MICROSOFT-CDO-ALLDAYEVENT:FALSE
SUMMARY:Holiday Home Tour
DESCRIPTION:Hey all you home d cor enthusiasts! This Is Adel is making plans for another in-person Holiday Home Tour this December\, and do we have a line-up for you!\n\n \n\nFour unique and beautifully decorated homes have been carefully selected to bring oohs and aahs from a variety of palates. Be prepared for extravagant fabrics and bold color choices\; historic charm and ornate architecture\; and smooth\, contemporary aesthetics.\n\n \n\nThe tour is Sun.\, Dec. 4 but be sure to watch for ticket sales early\, because this year we have limited capacity. We don't want you to miss out on this MUST SEE tour so make sure you are already part of the This Is Adel Facebook Group or request to join today!\n\n \n\n \n\nHosted annually\, the Holiday Home Tour is presented by the Adel Partners Chamber and organized by the This Is Adel committee. The tour is part of a the Hometown Holiday Celebration hosted by the Adel Partners Chamber Dec. 2-4 in Adel\, Iowa.
X-ALT-DESC;FMTTYPE=text/html:<p style="box-sizing: border-box\; margin: 0px 0px 10px\; color: rgb(58\, 58\, 58)\; font-family: Montserrat\, sans-serif\; font-size: 16px\; background-color: rgb(255\, 255\, 255)\;">Hey all you home d&eacute\;cor enthusiasts!&nbsp\;<em style="box-sizing: border-box\;">This Is Adel</em>&nbsp\;is making plans for another in-person Holiday Home Tour this December\, and do we have a line-up for you!</p>\n\n<p style="box-sizing: border-box\; margin: 0px 0px 10px\; color: rgb(58\, 58\, 58)\; font-family: Montserrat\, sans-serif\; font-size: 16px\; background-color: rgb(255\, 255\, 255)\;">&nbsp\;</p>\n\n<p style="box-sizing: border-box\; margin: 0px 0px 10px\; color: rgb(58\, 58\, 58)\; font-family: Montserrat\, sans-serif\; font-size: 16px\; background-color: rgb(255\, 255\, 255)\;">Four unique and beautifully decorated homes have been carefully selected to bring oohs and aahs from a variety of palates. Be prepared for extravagant fabrics and bold color choices\; historic charm and ornate architecture\; and smooth\, contemporary aesthetics.</p>\n\n<p style="box-sizing: border-box\; margin: 0px 0px 10px\; color: rgb(58\, 58\, 58)\; font-family: Montserrat\, sans-serif\; font-size: 16px\; background-color: rgb(255\, 255\, 255)\;">&nbsp\;</p>\n\n<p style="box-sizing: border-box\; margin: 0px 0px 10px\; color: rgb(58\, 58\, 58)\; font-family: Montserrat\, sans-serif\; font-size: 16px\; background-color: rgb(255\, 255\, 255)\;">The tour is Sun.\, Dec. 4 but be sure to watch for ticket sales early\, because this year we have limited capacity. We don&rsquo\;t want you to miss out on this MUST SEE tour so make sure you are already part of the&nbsp\;<em style="box-sizing: border-box\;">This Is Adel</em>&nbsp\;Facebook Group or&nbsp\;<a href="https://www.facebook.com/groups/ThisIsAdel/" style="box-sizing: border-box\; background-color: transparent\; color: rgb(1\, 83\, 121)\; text-decoration-line: none\;">request to join today</a>!</p>\n\n<p style="box-sizing: border-box\; margin: 0px 0px 10px\; color: rgb(58\, 58\, 58)\; font-family: Montserrat\, sans-serif\; font-size: 16px\; background-color: rgb(255\, 255\, 255)\;">&nbsp\;</p>\n\n<p style="box-sizing: border-box\; margin: 0px 0px 10px\; color: rgb(58\, 58\, 58)\; font-family: Montserrat\, sans-serif\; font-size: 16px\; background-color: rgb(255\, 255\, 255)\;">&nbsp\;</p>\n\n<p style="box-sizing: border-box\; margin: 0px 0px 10px\; color: rgb(58\, 58\, 58)\; font-family: Montserrat\, sans-serif\; font-size: 16px\; background-color: rgb(255\, 255\, 255)\;"><em style="box-sizing: border-box\;">Hosted annually\, the Holiday Home Tour is presented by the Adel Partners Chamber and organized by the This Is Adel committee. The tour is part of a the Hometown Holiday Celebration&nbsp\;</em>hosted by the Adel Partners Chamber Dec. 2-4 in Adel\, Iowa.</p>\n\n<p style="box-sizing: border-box\; margin: 0px 0px 10px\; color: rgb(58\, 58\, 58)\; font-family: Montserrat\, sans-serif\; font-size: 16px\; background-color: rgb(255\, 255\, 255)\;">&nbsp\;</p>\n
LOCATION:Adel
UID:e.2561.3452
SEQUENCE:3
DTSTAMP:20260422T010742Z
URL:https://business.adelpartners.org/events/details/holiday-home-tour-3452
END:VEVENT

END:VCALENDAR
