BEGIN:VCALENDAR
VERSION:2.0
PRODID:-//ChamberMaster//Event Calendar 2.0//EN
METHOD:PUBLISH
X-PUBLISHED-TTL:P3D
REFRESH-INTERVAL:P3D
CALSCALE:GREGORIAN
BEGIN:VEVENT
DTSTART:20210627T190000Z
DTEND:20210627T210000Z
X-MICROSOFT-CDO-ALLDAYEVENT:FALSE
SUMMARY:Home Garden Tour
DESCRIPTION:Presented by Harvey's Greenhouse: Tour 5 beautiful home gardens located in Adel\, Iowa\n\n\n\n\n\n\nAbout this Event\n\n\n\nCome enjoy beautiful gardens with friends and family! The tour is from 2-4pm\, and you can tour at your own pace through these five unique garden spaces around town.\n\nThere are more options to make this a fun day:\n\nSelect the Salad Luncheon add-on to enjoy a delicious meal from the Adel Women's Club to start off your tour day. We'll be hosting the Salad Luncheon at Country Lane Lodge this year\, from 12:00-1:30pm.\n\nSelect the Garden & Grapes event for a fun\, VIP experience after the tour. Our VIP offering will be up at Penoach Winery from 4:00-6:00 pm. You'll enjoy wine tastings\, appetizers\, an educational presentation\, and a planting make-and-take event.\n\nYou have a few options for tickets:\n\n\n	Tour only ($10)\n	Add-on the Salad Luncheon (+ $10)\n	Add-on the Garden & Grapes event (+ $10 early bird\, $15 after June 1st)
X-ALT-DESC;FMTTYPE=text/html:<div class="g-group l-lg-mar-bot-6 l-md-mar-bot-4  " style="margin: 0px 0px 30px\; padding: 0px\; font-size: 0px\; letter-spacing: 0px\; color: rgb(57\, 54\, 79)\; font-family: &quot\;Neue Plak&quot\;\, -apple-system\, BlinkMacSystemFont\, Roboto\, &quot\;Helvetica Neue&quot\;\, Helvetica\, Tahoma\, Arial\, sans-serif\; background-color: rgb(255\, 255\, 255)\;">\n<div class="g-cell g-cell-10-12 g-cell-md-1-1" style="margin: 0px\; padding: 0px 15px\; width: 560px\; box-sizing: border-box\; display: inline-block\; overflow: hidden\; vertical-align: top\; letter-spacing: 0.5px\; font-size: 0.933333rem\; line-height: 1.25rem\;">\n<div class="has-user-generated-content" style="margin: 0px\; padding: 0px\;">\n<div class="text-body-medium" data-automation="listing-event-description" style="margin: 0px\; padding: 0px\; font-size: 0.933333rem\; line-height: 1.25rem\;"><span style="font-weight: 700\; padding-top: 0px\;">Presented by Harvey&#39\;s Greenhouse: Tour 5 beautiful home gardens located in Adel\, Iowa</span></div>\n</div>\n</div>\n</div>\n\n<div class="g-group l-mar-bot-6 l-sm-mar-bot-4" style="margin: 0px 0px 30px\; padding: 0px\; font-size: 0px\; letter-spacing: 0px\; color: rgb(57\, 54\, 79)\; font-family: &quot\;Neue Plak&quot\;\, -apple-system\, BlinkMacSystemFont\, Roboto\, &quot\;Helvetica Neue&quot\;\, Helvetica\, Tahoma\, Arial\, sans-serif\; background-color: rgb(255\, 255\, 255)\;">\n<div class="structured-content g-cell g-cell-10-12 g-cell-md-1-1" style="margin: 0px\; padding: 0px 15px\; width: 560px\; box-sizing: border-box\; display: inline-block\; overflow: hidden\; vertical-align: top\; letter-spacing: 0.5px\; font-size: 0.933333rem\; line-height: 1.25rem\;">\n<h2 class="text-body-large hide-small" style="margin: 0px -0.25px 0px 0px\; padding: 0px\; font-size: 1.2rem\; line-height: 1.5rem\; letter-spacing: 0.25px\;">About this Event</h2>\n\n<div class="has-user-generated-content" data-automation="about-this-event-sc" style="margin: 0px\; padding: 0px\;">\n<div class="structured-content-rich-text structured-content__module l-align-left l-mar-vert-6 l-sm-mar-vert-4 text-body-medium" style="margin: 30px 0px\; padding: 0px\; font-size: 0.933333rem\; line-height: 1.25rem\; text-rendering: optimizelegibility\;">\n<p style="margin: 0px\; padding: 0px\; color: rgb(111\, 114\, 135)\; font-size: 16px\; line-height: 1.5rem\;">Come enjoy beautiful gardens with friends and family! The tour is from 2-4pm\, and you can tour at your own pace through these five unique garden spaces around town.</p>\n\n<p style="margin: 0px\; padding: 10px 0px 0px\; color: rgb(111\, 114\, 135)\; font-size: 16px\; line-height: 1.5rem\;">There are more options to make this a fun day:</p>\n\n<p style="margin: 0px\; padding: 10px 0px 0px\; color: rgb(111\, 114\, 135)\; font-size: 16px\; line-height: 1.5rem\;">Select the Salad Luncheon add-on to enjoy a delicious meal from the Adel Women&#39\;s Club to start off your tour day. We&#39\;ll be hosting the Salad Luncheon at Country Lane Lodge this year\, from 12:00-1:30pm.</p>\n\n<p style="margin: 0px\; padding: 10px 0px 0px\; color: rgb(111\, 114\, 135)\; font-size: 16px\; line-height: 1.5rem\;">Select the Garden &amp\; Grapes event for a fun\, VIP experience after the tour. Our VIP offering will be up at Penoach Winery from 4:00-6:00 pm. You&#39\;ll enjoy wine tastings\, appetizers\, an educational presentation\, and a planting make-and-take event.</p>\n\n<p style="margin: 0px\; padding: 10px 0px 0px\; color: rgb(111\, 114\, 135)\; font-size: 16px\; line-height: 1.5rem\;">You have a few options for tickets:</p>\n\n<ul style="margin: 0px\; padding: 10px 0px 0px 2em\; list-style-position: initial\; list-style-image: initial\; color: rgb(111\, 114\, 135)\; font-size: 16px\; line-height: 1.5rem\;">\n	<li style="margin: 0px\; padding: 0px\;">Tour only ($10)</li>\n	<li style="margin: 0px\; padding: 5px 0px 0px\;">Add-on the Salad Luncheon (+ $10)</li>\n	<li style="margin: 0px\; padding: 5px 0px 0px\;">Add-on the Garden &amp\; Grapes event (+ $10 early bird\, $15 after June 1st)</li>\n</ul>\n</div>\n</div>\n</div>\n</div>\n
LOCATION:Tickets may be purchased in person at Adel HealthMart (113 N 9th St) Adel Quilting & Dry Goods (909 Prairie St) and Harvey's Greenhouse(611 Nile Kinnick Dr S)
UID:e.2561.3308
SEQUENCE:3
DTSTAMP:20260426T013010Z
URL:https://business.adelpartners.org/events/details/home-garden-tour-3308
END:VEVENT

END:VCALENDAR
