BEGIN:VCALENDAR
VERSION:2.0
PRODID:-//ChamberMaster//Event Calendar 2.0//EN
METHOD:PUBLISH
X-PUBLISHED-TTL:P3D
REFRESH-INTERVAL:P3D
CALSCALE:GREGORIAN
BEGIN:VEVENT
DTSTART;VALUE=DATE:20211203
DTEND;VALUE=DATE:20211206
TRANSP:TRANSPARENT
X-MICROSOFT-CDO-ALLDAYEVENT:TRUE
SUMMARY:Hometown Holiday Celebration
DESCRIPTION:Week-end to Celebrate the Holidays on Adel\n\nSip & Sample\n\nLIghting  the square\n\nHoliday Home Tour
X-ALT-DESC;FMTTYPE=text/html:Week-end to Celebrate the Holidays on Adel<br />\nSip &amp\; Sample<br />\nLIghting&nbsp\; the square<br />\nHoliday Home Tour
LOCATION:Square in Adel
UID:e.2561.3313
SEQUENCE:3
DTSTAMP:20260422T195027Z
URL:https://business.adelpartners.org/events/details/hometown-holiday-celebration-3313
END:VEVENT

END:VCALENDAR
