BEGIN:VCALENDAR
VERSION:2.0
PRODID:-//ChamberMaster//Event Calendar 2.0//EN
METHOD:PUBLISH
X-PUBLISHED-TTL:P3D
REFRESH-INTERVAL:P3D
CALSCALE:GREGORIAN
BEGIN:VEVENT
DTSTART:20221202T213000Z
DTEND:20221203T010000Z
X-MICROSOFT-CDO-ALLDAYEVENT:FALSE
SUMMARY:Hometown Holiday Celebration
DESCRIPTION:Join us as we kick off the holiday season with a weekend full of festive activities\, hosted by the Adel Partners Chamber. Shop\, wine and dine throughout our community and experience the many ways we celebrate the holiday season.\n\nEvents for 2022 include:\n\nSip & Sample   Friday\, December 2\n\n3pm Adel Public Library is hosting Mrs. Claus and Crafts with drinks and cookies provided by the City of Adel\,\n\n5pm The lighting of the tree and wreaths on the northeast corner of the square.  Music provided by the boy and girl scouts.\n\n5-7 pm Let's sip and sample our way around Adel! Enjoy festive dishes and drinks available at many of our Adel businesses and shop locally for your holiday gifts.\n\nFind the poster in their windows to enjoy samples.\n\nShop & Hop   Saturday\, December 3\n\nShop and hop your way through Adel as our businesses host holiday sales and specials.\n\nSunday Dec 4 Holiday Home Tour
X-ALT-DESC;FMTTYPE=text/html:<p style="box-sizing: border-box\; margin: 0px 0px 10px\; color: rgb(58\, 58\, 58)\; font-family: Montserrat\, sans-serif\; font-size: 16px\; background-color: rgb(255\, 255\, 255)\;">Join us as we kick off the holiday season with a weekend full of festive activities\, hosted by the Adel Partners Chamber. Shop\, wine and dine throughout our community and experience the many ways we celebrate the holiday season.</p>\n\n<p style="box-sizing: border-box\; margin: 0px 0px 10px\; color: rgb(58\, 58\, 58)\; font-family: Montserrat\, sans-serif\; font-size: 16px\; background-color: rgb(255\, 255\, 255)\;">Events for 2022 include:</p>\n\n<p style="box-sizing: border-box\; margin: 0px 0px 10px\; color: rgb(58\, 58\, 58)\; font-family: Montserrat\, sans-serif\; font-size: 16px\; background-color: rgb(255\, 255\, 255)\;"><strong style="box-sizing: border-box\;">Sip &amp\; Sample</strong>&nbsp\;&ndash\; Friday\, December 2</p>\n\n<p style="box-sizing: border-box\; margin: 0px 0px 10px\; color: rgb(58\, 58\, 58)\; font-family: Montserrat\, sans-serif\; font-size: 16px\; background-color: rgb(255\, 255\, 255)\;">3pm Adel Public Library is hosting Mrs. Claus and Crafts with drinks and cookies provided by the City of Adel\,</p>\n\n<p style="box-sizing: border-box\; margin: 0px 0px 10px\; color: rgb(58\, 58\, 58)\; font-family: Montserrat\, sans-serif\; font-size: 16px\; background-color: rgb(255\, 255\, 255)\;">5pm The lighting of the tree and wreaths on the northeast corner of the square.&nbsp\; Music provided by the boy and girl scouts.</p>\n\n<p style="box-sizing: border-box\; margin: 0px 0px 10px\; color: rgb(58\, 58\, 58)\; font-family: Montserrat\, sans-serif\; font-size: 16px\; background-color: rgb(255\, 255\, 255)\;">5-7 pm Let&rsquo\;s sip and sample our way around Adel! Enjoy festive dishes and drinks available at many of our Adel businesses and shop locally for your holiday gifts.</p>\n\n<p style="box-sizing: border-box\; margin: 0px 0px 10px\; color: rgb(58\, 58\, 58)\; font-family: Montserrat\, sans-serif\; font-size: 16px\; background-color: rgb(255\, 255\, 255)\;">Find the poster in their windows to enjoy samples.</p>\n\n<p style="box-sizing: border-box\; margin: 0px 0px 10px\; color: rgb(58\, 58\, 58)\; font-family: Montserrat\, sans-serif\; font-size: 16px\; background-color: rgb(255\, 255\, 255)\;"><strong style="box-sizing: border-box\;">Shop &amp\; Hop</strong>&nbsp\;&ndash\; Saturday\, December 3</p>\n\n<p style="box-sizing: border-box\; margin: 0px 0px 10px\; color: rgb(58\, 58\, 58)\; font-family: Montserrat\, sans-serif\; font-size: 16px\; background-color: rgb(255\, 255\, 255)\;">Shop and hop your way through Adel as our businesses host holiday sales and specials.<br />\nSunday Dec 4 Holiday Home Tour</p>\n
LOCATION:Adel
UID:e.2561.3450
SEQUENCE:3
DTSTAMP:20260422T025451Z
URL:https://business.adelpartners.org/events/details/hometown-holiday-celebration-3450
END:VEVENT

END:VCALENDAR
