BEGIN:VCALENDAR
VERSION:2.0
PRODID:-//ChamberMaster//Event Calendar 2.0//EN
METHOD:PUBLISH
X-PUBLISHED-TTL:P3D
REFRESH-INTERVAL:P3D
CALSCALE:GREGORIAN
BEGIN:VEVENT
DTSTART:20221203T213000Z
DTEND:20221204T010000Z
X-MICROSOFT-CDO-ALLDAYEVENT:FALSE
SUMMARY:Hometown Holiday Celebration
DESCRIPTION:Join us as we kick off the holiday season with a weekend \n\nShop & Hop   Saturday\, December 3\n\nShop and hop your way through Adel as our businesses host holiday sales and specials.\n\nSunday Dec 4 Holiday Home Tour
X-ALT-DESC;FMTTYPE=text/html:<p style="box-sizing: border-box\; margin: 0px 0px 10px\; color: rgb(58\, 58\, 58)\; font-family: Montserrat\, sans-serif\; font-size: 16px\; background-color: rgb(255\, 255\, 255)\;">Join us as we kick off the holiday season with a weekend&nbsp\;</p>\n\n<p style="box-sizing: border-box\; margin: 0px 0px 10px\; color: rgb(58\, 58\, 58)\; font-family: Montserrat\, sans-serif\; font-size: 16px\; background-color: rgb(255\, 255\, 255)\;"><strong style="box-sizing: border-box\;">Shop &amp\; Hop</strong>&nbsp\;&ndash\; Saturday\, December 3</p>\n\n<p style="box-sizing: border-box\; margin: 0px 0px 10px\; color: rgb(58\, 58\, 58)\; font-family: Montserrat\, sans-serif\; font-size: 16px\; background-color: rgb(255\, 255\, 255)\;">Shop and hop your way through Adel as our businesses host holiday sales and specials.<br />\nSunday Dec 4 Holiday Home Tour</p>\n
LOCATION:Adel
UID:e.2561.3451
SEQUENCE:3
DTSTAMP:20260422T025347Z
URL:https://business.adelpartners.org/events/details/hometown-holiday-celebration-3451
END:VEVENT

END:VCALENDAR
