BEGIN:VCALENDAR
VERSION:2.0
PRODID:-//ChamberMaster//Event Calendar 2.0//EN
METHOD:PUBLISH
X-PUBLISHED-TTL:P3D
REFRESH-INTERVAL:P3D
CALSCALE:GREGORIAN
BEGIN:VEVENT
DTSTART;VALUE=DATE:20251205
DTEND;VALUE=DATE:20251207
TRANSP:TRANSPARENT
X-MICROSOFT-CDO-ALLDAYEVENT:TRUE
SUMMARY:Hometown Holiday Celebration
DESCRIPTION:Kick off your holiday celebration with Adel's Hometown Holiday! Our theme this year is Candy Land!\n\n\n\nFriday\, December 5 Meet some of Santa's reindeer in the City Hall parking lot from 2:00-4:00! Reindeer will be available to view\, pet\, and for photos. Join us as we light the tree at 5:00 and explore Adel's businesses during Sip & Sample! Local businesses will be serving unique & fun family-friendly holiday treats\, drinks\, and other delicious items you won't want to miss!\n\n\n\nSaturday\, December 6 Have pancakes with Santa at the Public Safety Building before you get your holiday shopping done at one of Adel's several retail shops! Carriage rides will be happening through Adel's historic downtown from 10:00-1:00. \n\n$30 per ride - seats up to 6 people. \n\nRegister today to reserve your carriage ride timeslot!\n\n\n\nStay up to date with all of the latest information & details on our Facebook Event page!
X-ALT-DESC;FMTTYPE=text/html:Kick off your holiday celebration with Adel&#39\;s Hometown Holiday! Our theme this year is Candy Land!<br />\n<br />\n<strong>Friday\, December 5</strong>&nbsp\;Meet some of Santa&#39\;s reindeer in the City Hall parking lot from 2:00-4:00! Reindeer will be available to view\, pet\, and for photos. Join us as we light the tree at 5:00 and explore Adel&#39\;s businesses during Sip &amp\; Sample! Local businesses will be serving unique &amp\; fun family-friendly holiday treats\, drinks\, and other delicious items you won&#39\;t want to miss!<br />\n<br />\n<strong>Saturday\, December 6</strong>&nbsp\;Have pancakes with Santa at the Public Safety Building before you get your holiday shopping done at one of Adel&#39\;s several retail shops! Carriage rides will be happening through Adel&#39\;s historic downtown from 10:00-1:00.&nbsp\;<br />\n<strong>$30 per ride - seats up to 6 people.&nbsp\;</strong><br />\nRegister today to reserve your carriage ride timeslot!<br />\n<br />\nStay up to date with all of the latest information &amp\; details on our <a href="https://www.facebook.com/events/1887606812165215">Facebook Event page!&nbsp\;</a>
LOCATION:Adel's historic downtown Square
UID:e.2561.3596
SEQUENCE:3
DTSTAMP:20260426T041541Z
URL:https://business.adelpartners.org/events/details/hometown-holiday-celebration-3596
END:VEVENT

END:VCALENDAR
