BEGIN:VCALENDAR
VERSION:2.0
PRODID:-//ChamberMaster//Event Calendar 2.0//EN
METHOD:PUBLISH
X-PUBLISHED-TTL:P3D
REFRESH-INTERVAL:P3D
CALSCALE:GREGORIAN
BEGIN:VEVENT
DTSTART:20230927T170000Z
DTEND:20230927T180000Z
X-MICROSOFT-CDO-ALLDAYEVENT:FALSE
SUMMARY:Iowa Clinic Ribbon Cutting
DESCRIPTION:Join us to welcome Iowa Clinic to Adel and the Chamber.
X-ALT-DESC;FMTTYPE=text/html:Join us to welcome Iowa Clinic to Adel and the Chamber.
LOCATION:711 Common Place Suite 700
UID:e.2561.3511
SEQUENCE:3
DTSTAMP:20260422T143225Z
URL:https://business.adelpartners.org/events/details/iowa-clinic-ribbon-cutting-3511
END:VEVENT

END:VCALENDAR
