BEGIN:VCALENDAR
VERSION:2.0
PRODID:-//ChamberMaster//Event Calendar 2.0//EN
METHOD:PUBLISH
X-PUBLISHED-TTL:P3D
REFRESH-INTERVAL:P3D
CALSCALE:GREGORIAN
BEGIN:VEVENT
DTSTART:20190405T213000Z
DTEND:20190405T223000Z
X-MICROSOFT-CDO-ALLDAYEVENT:FALSE
SUMMARY:Iowa Realty Regrand Opening Ribbon Cutting
DESCRIPTION:Celebrating the remodel of the Iowa Realty office in Adel
X-ALT-DESC;FMTTYPE=text/html:Celebrating the remodel of the Iowa Realty office in Adel
LOCATION:803 Greene St Adel
UID:e.2561.3246
SEQUENCE:3
DTSTAMP:20260424T192836Z
URL:https://business.adelpartners.org/events/details/iowa-realty-regrand-opening-ribbon-cutting-3246
END:VEVENT

END:VCALENDAR
