BEGIN:VCALENDAR
VERSION:2.0
PRODID:-//ChamberMaster//Event Calendar 2.0//EN
METHOD:PUBLISH
X-PUBLISHED-TTL:P3D
REFRESH-INTERVAL:P3D
CALSCALE:GREGORIAN
BEGIN:VEVENT
DTSTART:20191029T230000Z
DTEND:20191030T010000Z
X-MICROSOFT-CDO-ALLDAYEVENT:FALSE
SUMMARY:ISU Class Presentation
DESCRIPTION:Join us to see the 3 scenrios presentation from ISU graduate class on their "zoom" into downtown Adel.
X-ALT-DESC;FMTTYPE=text/html:Join us to see the 3 scenrios presentation from ISU graduate class on their &quot\;zoom&quot\; into downtown Adel.
LOCATION:Community Room Public Library 303 S 10th St
UID:e.2561.3270
SEQUENCE:3
DTSTAMP:20260424T102655Z
URL:https://business.adelpartners.org/events/details/isu-class-presentation-3270
END:VEVENT

END:VCALENDAR
