BEGIN:VCALENDAR
VERSION:2.0
PRODID:-//ChamberMaster//Event Calendar 2.0//EN
METHOD:PUBLISH
X-PUBLISHED-TTL:P3D
REFRESH-INTERVAL:P3D
CALSCALE:GREGORIAN
BEGIN:VEVENT
DTSTART:20180629T233000Z
DTEND:20180630T030000Z
X-MICROSOFT-CDO-ALLDAYEVENT:FALSE
SUMMARY:June Moon at The Brenton Arboretum
DESCRIPTION:Join us for an evening of delicious food\, great music\, and relaxed fellowship at The Brenton Arboretum. As the sun sets and the FULL MOON rises we'll lift our glasses in a toast to the trees that make this place such a treasure. This is the second year for this casual-chic outdoor event and you won't want to miss it. Tickets include a barbecue buffet dinner and drinks and a concert by The WELL PENNIES\, a local favorite DSM folk/pop duo. Each ticket or table purchase celebrates and supports The Brenton Arboretum\, one of central Iowa's most beloved cultural institutions. The event is held rain or shine\, under a tent on the beautiful grounds of the Arboretum.
X-ALT-DESC;FMTTYPE=text/html:Join us for an evening of delicious food\, great music\, and relaxed fellowship at The Brenton Arboretum. As the sun sets and the FULL MOON rises we&rsquo\;ll lift our glasses in a toast to the trees that make this place such a treasure. This is the second year for this casual-chic outdoor event and you won&rsquo\;t want to miss it. Tickets include a barbecue buffet dinner and drinks and a concert by The WELL PENNIES\, a local favorite DSM folk/pop duo. Each ticket or table purchase celebrates and supports The Brenton Arboretum\, one of central Iowa&rsquo\;s most beloved cultural institutions. The event is held rain or shine\, under a tent on the beautiful grounds of the Arboretum.
LOCATION:The Brenton Arboretum 25141 260th Street Dallas Center\, IA 50063
UID:e.2561.3223
SEQUENCE:3
DTSTAMP:20260425T104636Z
URL:https://business.adelpartners.org/events/details/june-moon-at-the-brenton-arboretum-3223
END:VEVENT

END:VCALENDAR
