BEGIN:VCALENDAR
VERSION:2.0
PRODID:-//ChamberMaster//Event Calendar 2.0//EN
METHOD:PUBLISH
X-PUBLISHED-TTL:P3D
REFRESH-INTERVAL:P3D
CALSCALE:GREGORIAN
BEGIN:VEVENT
DTSTART:20190329T210000Z
DTEND:20190330T000000Z
X-MICROSOFT-CDO-ALLDAYEVENT:FALSE
SUMMARY:Kinnick To Raccoon Trail Improvement Project Roll Out
DESCRIPTION:Learn about the Kinnick to Raccoon Trail Improvement Project\n\nEnjoy the music of Brick & Bob \n\nSip our signature drink
X-ALT-DESC;FMTTYPE=text/html:Learn about the Kinnick to Raccoon Trail Improvement Project<br />\nEnjoy the music of Brick &amp\; Bob&nbsp\;<br />\nSip our signature drink
LOCATION:Brickyard Burgers and Brews 1802 Greene St Adel
UID:e.2561.3247
SEQUENCE:3
DTSTAMP:20260424T220543Z
URL:https://business.adelpartners.org/events/details/kinnick-to-raccoon-trail-improvement-project-roll-out-3247
END:VEVENT

END:VCALENDAR
