BEGIN:VCALENDAR
VERSION:2.0
PRODID:-//ChamberMaster//Event Calendar 2.0//EN
METHOD:PUBLISH
X-PUBLISHED-TTL:P3D
REFRESH-INTERVAL:P3D
CALSCALE:GREGORIAN
BEGIN:VEVENT
DTSTART:20240225T040000Z
DTEND:20240225T040000Z
X-MICROSOFT-CDO-ALLDAYEVENT:FALSE
SUMMARY:Legislative Update
DESCRIPTION:Hear about the issues at the Statehouse with Senator Sarah Trone Garrett and Represnetastive David Young.
X-ALT-DESC;FMTTYPE=text/html:Hear about the issues at the Statehouse with Senator Sarah Trone Garrett and Represnetastive David Young.&nbsp\;&nbsp\;
LOCATION:Adel Public Library 310 S. 10th St Community Room
UID:e.2561.3528
SEQUENCE:3
DTSTAMP:20260421T031733Z
URL:https://business.adelpartners.org/events/details/legislative-update-3528
END:VEVENT

END:VCALENDAR
