BEGIN:VCALENDAR
VERSION:2.0
PRODID:-//ChamberMaster//Event Calendar 2.0//EN
METHOD:PUBLISH
X-PUBLISHED-TTL:P3D
REFRESH-INTERVAL:P3D
CALSCALE:GREGORIAN
BEGIN:VEVENT
DTSTART:20190308T230000Z
DTEND:20190309T010000Z
X-MICROSOFT-CDO-ALLDAYEVENT:FALSE
SUMMARY:Lenten Fish Fry
DESCRIPTION:Hand battered fish\, baked potato and coleslaw. Grilled Cheese sandwich and Fries. $8 per plate\, kid plates $5. $25 immediate family maximum Beer and wine free will offering! Carry outs available! Desserts available\; free will offering proceeds to youth group.
X-ALT-DESC;FMTTYPE=text/html:Hand battered fish\, baked potato and coleslaw. Grilled Cheese sandwich and Fries. $8 per plate\, kid plates $5. $25 immediate family maximum Beer and wine free will offering! Carry outs available! Desserts available\; free will offering proceeds to youth group.
LOCATION:St. John's Catholic Church\, Adel 24043 302nd Place\, P O Box 185\, Adel\, Iowa 50003
UID:e.2561.3249
SEQUENCE:3
DTSTAMP:20260424T220611Z
URL:https://business.adelpartners.org/events/details/lenten-fish-fry-3249
END:VEVENT

END:VCALENDAR
