BEGIN:VCALENDAR
VERSION:2.0
PRODID:-//ChamberMaster//Event Calendar 2.0//EN
METHOD:PUBLISH
X-PUBLISHED-TTL:P3D
REFRESH-INTERVAL:P3D
CALSCALE:GREGORIAN
BEGIN:VEVENT
DTSTART:20201007T001500Z
DTEND:20201007T010000Z
X-MICROSOFT-CDO-ALLDAYEVENT:FALSE
SUMMARY:Light the Bridge
DESCRIPTION:The RRVT bridge will have the switch flipped for public viewing.   66 LEDlights shining on the trail and the southside of the bridge will be on from dusk to 1am every day.  Bikers\, Walkers/Runners are invited to cross the bridge to experience the lights.  They can also be seen from Hwy 6 as it crosses the river.
X-ALT-DESC;FMTTYPE=text/html:The RRVT bridge will have the switch flipped for public viewing.&nbsp\; &nbsp\;66 LEDlights shining on the trail and the southside of the bridge will be on from dusk to 1am every day.&nbsp\; Bikers\, Walkers/Runners are invited to cross the bridge to experience the lights.&nbsp\; They can also be seen from Hwy 6 as it crosses the river.
LOCATION:Hwy 6 Bridge or RRVT Bridge
UID:e.2561.3304
SEQUENCE:3
DTSTAMP:20260423T152753Z
URL:https://business.adelpartners.org/events/details/light-the-bridge-3304
END:VEVENT

END:VCALENDAR
