BEGIN:VCALENDAR
VERSION:2.0
PRODID:-//ChamberMaster//Event Calendar 2.0//EN
METHOD:PUBLISH
X-PUBLISHED-TTL:P3D
REFRESH-INTERVAL:P3D
CALSCALE:GREGORIAN
BEGIN:VEVENT
DTSTART:20221227T000000Z
DTEND:20221231T000000Z
X-MICROSOFT-CDO-ALLDAYEVENT:FALSE
SUMMARY:Louw Stables Holiday Nights
DESCRIPTION:Two Events Week\n\nCamp is all week Day Camp is from 1-4pm\n\nThe Holiday Nights is only the 29th and 30th \n\n\n\nHoliday Carriage Rides\, Pony Rides\, Hot Chocolate Bar
X-ALT-DESC;FMTTYPE=text/html:Two Events Week<br />\nCamp is all week&nbsp\;<span style="color: rgb(51\, 51\, 51)\; font-family: sans-serif\, Arial\, Verdana\, &quot\;Trebuchet MS&quot\;\; font-size: 13px\; background-color: rgb(255\, 255\, 255)\;">Day Camp is from 1-4pm</span><br />\nThe Holiday Nights is only the 29th and 30th&nbsp\;<br />\n<br />\nHoliday Carriage Rides\, Pony Rides\, Hot Chocolate Bar<br />\n&nbsp\;
LOCATION:Louw Stables 36479 Osage Ave Van Meter
UID:e.2561.3482
SEQUENCE:3
DTSTAMP:20260422T060926Z
URL:https://business.adelpartners.org/events/details/louw-stables-holiday-nights-3482
END:VEVENT

END:VCALENDAR
