BEGIN:VCALENDAR
VERSION:2.0
PRODID:-//ChamberMaster//Event Calendar 2.0//EN
METHOD:PUBLISH
X-PUBLISHED-TTL:P3D
REFRESH-INTERVAL:P3D
CALSCALE:GREGORIAN
BEGIN:VEVENT
DTSTART:20231109T230000Z
DTEND:20231110T010000Z
X-MICROSOFT-CDO-ALLDAYEVENT:FALSE
SUMMARY:New Hope Church Adel Ribbon Cutting
DESCRIPTION:Join us to celebrate New Hope Church Adel ribbon cutting of their beautiful addition.
X-ALT-DESC;FMTTYPE=text/html:Join us to celebrate New Hope Church Adel ribbon cutting of their beautiful addition.
LOCATION:25712 Hwy 6
UID:e.2561.3515
SEQUENCE:3
DTSTAMP:20260421T063437Z
URL:https://business.adelpartners.org/events/details/new-hope-church-adel-ribbon-cutting-3515
END:VEVENT

END:VCALENDAR
