BEGIN:VCALENDAR
VERSION:2.0
PRODID:-//ChamberMaster//Event Calendar 2.0//EN
METHOD:PUBLISH
X-PUBLISHED-TTL:P3D
REFRESH-INTERVAL:P3D
CALSCALE:GREGORIAN
BEGIN:VEVENT
DTSTART:20220917T150000Z
DTEND:20220917T210000Z
X-MICROSOFT-CDO-ALLDAYEVENT:FALSE
SUMMARY:Penoach Apple Festival
DESCRIPTION:Many vendors providing produce\, crafts\, ice cream\, baked goods plus fun for the entire family
X-ALT-DESC;FMTTYPE=text/html:Many vendors providing produce\, crafts\, ice cream\, baked goods plus fun for the entire family
LOCATION:26759 N Ave Adel
UID:e.2561.3480
SEQUENCE:3
DTSTAMP:20260422T061034Z
URL:https://business.adelpartners.org/events/details/penoach-apple-festival-3480
END:VEVENT

END:VCALENDAR
