BEGIN:VCALENDAR
VERSION:2.0
PRODID:-//ChamberMaster//Event Calendar 2.0//EN
METHOD:PUBLISH
X-PUBLISHED-TTL:P3D
REFRESH-INTERVAL:P3D
CALSCALE:GREGORIAN
BEGIN:VEVENT
DTSTART;VALUE=DATE:20210419
DTEND;VALUE=DATE:20210420
TRANSP:TRANSPARENT
X-MICROSOFT-CDO-ALLDAYEVENT:TRUE
SUMMARY:Photician Headshots & Portraits
DESCRIPTION:Local Business Special Event Same day selection\, basic retouching\, digital download of one image in color and BW
X-ALT-DESC;FMTTYPE=text/html:Local Business Special Event Same day selection\, basic retouching\, digital download of one image in color and BW
LOCATION:103 N 9th St Apt C elevator available to the 3rd floor
UID:e.2561.3323
SEQUENCE:3
DTSTAMP:20260423T093010Z
URL:https://business.adelpartners.org/events/details/photician-headshots-portraits-3323
END:VEVENT

END:VCALENDAR
