BEGIN:VCALENDAR
VERSION:2.0
PRODID:-//ChamberMaster//Event Calendar 2.0//EN
METHOD:PUBLISH
X-PUBLISHED-TTL:P3D
REFRESH-INTERVAL:P3D
CALSCALE:GREGORIAN
BEGIN:VEVENT
DTSTART;VALUE=DATE:20251121
DTEND;VALUE=DATE:20251122
TRANSP:TRANSPARENT
X-MICROSOFT-CDO-ALLDAYEVENT:TRUE
SUMMARY:Pink Friday
DESCRIPTION:Shop small at local Adel Boutiques on Pink Friday - November 21!
X-ALT-DESC;FMTTYPE=text/html:Shop small at local Adel Boutiques on Pink Friday - November 21!&nbsp\;
LOCATION:Valtera Boutique 710 Common Place Adel\, IA Azalea Lane Boutique 803 Main Street Adel\, IA Adel Flowers & Gifts 801 Main Street Adel\, IA Real Deals 211 S 7th Street Adel\, IA
UID:e.2561.3606
SEQUENCE:3
DTSTAMP:20260419T154714Z
URL:https://business.adelpartners.org/events/details/pink-friday-3606
END:VEVENT

END:VCALENDAR
