BEGIN:VCALENDAR
VERSION:2.0
PRODID:-//ChamberMaster//Event Calendar 2.0//EN
METHOD:PUBLISH
X-PUBLISHED-TTL:P3D
REFRESH-INTERVAL:P3D
CALSCALE:GREGORIAN
BEGIN:VEVENT
DTSTART:20201128T170000Z
DTEND:20201128T200000Z
X-MICROSOFT-CDO-ALLDAYEVENT:FALSE
SUMMARY:Pop Up Shop
DESCRIPTION:Magic Stitches would love to have you visit our first pop up shop right here in Adel!  Located on the patio of Brick Street Bakery\, on Small Business Saturday\, we will have pet and baby apparel for gift giving (to yourself or others!).  Also available to discuss custom jobs.
X-ALT-DESC;FMTTYPE=text/html:<span style="font-size:14px"><span style="font-family:arial\,helvetica\,sans-serif">Magic Stitches would love to have you visit our first pop up shop right here in Adel! &nbsp\;Located on the patio of Brick Street Bakery\, on Small Business Saturday\, we will have pet and baby apparel for gift giving (to yourself or others!). &nbsp\;Also available to discuss custom jobs.</span></span>
LOCATION:Brick Street Bakery (on the patio) 109 N. 9th Street Adel\, IA. 50003
UID:e.2561.3306
SEQUENCE:3
DTSTAMP:20260423T160752Z
URL:https://business.adelpartners.org/events/details/pop-up-shop-3306
END:VEVENT

END:VCALENDAR
