BEGIN:VCALENDAR
VERSION:2.0
PRODID:-//ChamberMaster//Event Calendar 2.0//EN
METHOD:PUBLISH
X-PUBLISHED-TTL:P3D
REFRESH-INTERVAL:P3D
CALSCALE:GREGORIAN
BEGIN:VEVENT
DTSTART:20230804T220000Z
DTEND:20230805T000000Z
X-MICROSOFT-CDO-ALLDAYEVENT:FALSE
SUMMARY:Raccoon Valley Bank Community House Open House
DESCRIPTION:Open House at Raccoon Valley Bank Community House
X-ALT-DESC;FMTTYPE=text/html:Open House at Raccoon Valley Bank Community House
LOCATION:1016 Main St
UID:e.2561.3509
SEQUENCE:3
DTSTAMP:20260421T114248Z
URL:https://business.adelpartners.org/events/details/raccoon-valley-bank-community-house-open-house-3509
END:VEVENT

END:VCALENDAR
