BEGIN:VCALENDAR
VERSION:2.0
PRODID:-//ChamberMaster//Event Calendar 2.0//EN
METHOD:PUBLISH
X-PUBLISHED-TTL:P3D
REFRESH-INTERVAL:P3D
CALSCALE:GREGORIAN
BEGIN:VEVENT
DTSTART:20181101T230000Z
DTEND:20181102T020000Z
X-MICROSOFT-CDO-ALLDAYEVENT:FALSE
SUMMARY:Raising Funds with Fashion -2nd Annual Waukee Community Closet Fundraiser
DESCRIPTION:2018 Generations of Transformation - Everyday People Walking Tall will be a fun event including cocktails\, hors d-oeuvres\, silent raffle\, wine lottery\, fashion show \, and live auction! Tickets are on sale now! Waukee Community Closet provides confidence to children\, students\, and families through the free distribution of clothing to those in need in Dallas County communities. Families get to shop for high quality clothing in a store like atmosphere at no cost. We are always seeking donations and volunteers. We take pride in our mission of helping those in need and hope you will join us. Visit www.waukeecloset.com for more information!
X-ALT-DESC;FMTTYPE=text/html:2018 Generations of Transformation - Everyday People Walking Tall will be a fun event including cocktails\, hors d-oeuvres\, silent raffle\, wine lottery\, fashion show \, and live auction! Tickets are on sale now! Waukee Community Closet provides confidence to children\, students\, and families through the free distribution of clothing to those in need in Dallas County communities. Families get to shop for high quality clothing in a store like atmosphere at no cost. We are always seeking donations and volunteers. We take pride in our mission of helping those in need and hope you will join us. Visit www.waukeecloset.com for more information!
LOCATION:Country Lane Lodge 29300 Prospect Circle Adel\, IA
UID:e.2561.3233
SEQUENCE:3
DTSTAMP:20260425T030755Z
URL:https://business.adelpartners.org/events/details/raising-funds-with-fashion-2nd-annual-waukee-community-closet-fundraiser-3233
END:VEVENT

END:VCALENDAR
