BEGIN:VCALENDAR
VERSION:2.0
PRODID:-//ChamberMaster//Event Calendar 2.0//EN
METHOD:PUBLISH
X-PUBLISHED-TTL:P3D
REFRESH-INTERVAL:P3D
CALSCALE:GREGORIAN
BEGIN:VEVENT
DTSTART:20191029T214500Z
DTEND:20191029T221500Z
X-MICROSOFT-CDO-ALLDAYEVENT:FALSE
SUMMARY:RCI Builders Ribbon Cutting
DESCRIPTION:Ribbon Cutting for display room of RCI Builders\n\nWe will cut the ribbon at 5pm
X-ALT-DESC;FMTTYPE=text/html:Ribbon Cutting for display room of RCI Builders<br />\nWe will cut the ribbon at 5pm
LOCATION:23561 Nantucket Rd Adel
UID:e.2561.3269
SEQUENCE:3
DTSTAMP:20260424T074303Z
URL:https://business.adelpartners.org/events/details/rci-builders-ribbon-cutting-3269
END:VEVENT

END:VCALENDAR
