BEGIN:VCALENDAR
VERSION:2.0
PRODID:-//ChamberMaster//Event Calendar 2.0//EN
METHOD:PUBLISH
X-PUBLISHED-TTL:P3D
REFRESH-INTERVAL:P3D
CALSCALE:GREGORIAN
BEGIN:VEVENT
DTSTART:20190131T223000Z
DTEND:20190131T233000Z
X-MICROSOFT-CDO-ALLDAYEVENT:FALSE
SUMMARY:Re Grand Opening Iowa Realty
DESCRIPTION:Join Iowa Realty and the Adel Partners Chamber to clebrate their remodel and re-Grand Opening.
X-ALT-DESC;FMTTYPE=text/html:Join Iowa Realty and the Adel Partners Chamber to clebrate their remodel and re-Grand Opening.
LOCATION:803 Greene St
UID:e.2561.3237
SEQUENCE:3
DTSTAMP:20260424T233432Z
URL:https://business.adelpartners.org/events/details/re-grand-opening-iowa-realty-3237
END:VEVENT

END:VCALENDAR
