BEGIN:VCALENDAR
VERSION:2.0
PRODID:-//ChamberMaster//Event Calendar 2.0//EN
METHOD:PUBLISH
X-PUBLISHED-TTL:P3D
REFRESH-INTERVAL:P3D
CALSCALE:GREGORIAN
BEGIN:VEVENT
DTSTART:20220624T210000Z
DTEND:20220625T000000Z
X-MICROSOFT-CDO-ALLDAYEVENT:FALSE
SUMMARY:Rhythms of Grace Open House
DESCRIPTION:Equine therapeutic riding center. Find out how partnering with a horse can enhance the quality of life for children and adults with diverse needs.
X-ALT-DESC;FMTTYPE=text/html:Equine therapeutic riding center. Find out how partnering with a horse can enhance the quality of life for children and adults with diverse needs.
LOCATION:River Heights Ranch at 23625 River Heights Ranch Drive\, Dallas Center just west of the corner Hwy 169 and Hwy 44
UID:e.2561.3478
SEQUENCE:3
DTSTAMP:20260422T135105Z
URL:https://business.adelpartners.org/events/details/rhythms-of-grace-open-house-3478
END:VEVENT

END:VCALENDAR
