BEGIN:VCALENDAR
VERSION:2.0
PRODID:-//ChamberMaster//Event Calendar 2.0//EN
METHOD:PUBLISH
X-PUBLISHED-TTL:P3D
REFRESH-INTERVAL:P3D
CALSCALE:GREGORIAN
BEGIN:VEVENT
DTSTART:20180614T200000Z
DTEND:20180615T000000Z
X-MICROSOFT-CDO-ALLDAYEVENT:FALSE
SUMMARY:Ribbon Cutting and Launch Party Restoration Harmony Design Showroom & Mercantile and Harmony Hall on Riverside
DESCRIPTION:Join Restoration Harmony Design Showroom & Mercantile and Harmony Hall on Riverside for their LAUNCH party and Ribbon Cutting.  They will be showcasing their new businesses.
X-ALT-DESC;FMTTYPE=text/html:Join&nbsp\;Restoration Harmony Design Showroom &amp\; Mercantile and Harmony Hall on Riverside for their LAUNCH party and Ribbon Cutting.&nbsp\; They will be showcasing their new businesses.&nbsp\;
LOCATION:1015 Riverside Dr
UID:e.2561.3225
SEQUENCE:3
DTSTAMP:20260425T104731Z
URL:https://business.adelpartners.org/events/details/ribbon-cutting-and-launch-party-restoration-harmony-design-showroom-mercantile-and-harmony-hall-on-riverside-3225
END:VEVENT

END:VCALENDAR
