BEGIN:VCALENDAR
VERSION:2.0
PRODID:-//ChamberMaster//Event Calendar 2.0//EN
METHOD:PUBLISH
X-PUBLISHED-TTL:P3D
REFRESH-INTERVAL:P3D
CALSCALE:GREGORIAN
BEGIN:VEVENT
DTSTART:20220525T213000Z
DTEND:20220525T223000Z
X-MICROSOFT-CDO-ALLDAYEVENT:FALSE
SUMMARY:Ribbon Cutting Faith Lutheran Church & Preschool
DESCRIPTION:Celebration of new addition of the Faith Lutheran Church & Preschool.\n\nTours will be available
X-ALT-DESC;FMTTYPE=text/html:Celebration of new addition of the Faith Lutheran Church &amp\; Preschool.<br />\nTours will be available
LOCATION:602 S. 14th St Adel
UID:e.2561.3475
SEQUENCE:3
DTSTAMP:20260422T122240Z
URL:https://business.adelpartners.org/events/details/ribbon-cutting-faith-lutheran-church-preschool-3475
END:VEVENT

END:VCALENDAR
