BEGIN:VCALENDAR
VERSION:2.0
PRODID:-//ChamberMaster//Event Calendar 2.0//EN
METHOD:PUBLISH
X-PUBLISHED-TTL:P3D
REFRESH-INTERVAL:P3D
CALSCALE:GREGORIAN
BEGIN:VEVENT
DTSTART:20190925T213000Z
DTEND:20190925T220000Z
X-MICROSOFT-CDO-ALLDAYEVENT:FALSE
SUMMARY:Ribbon Cutting Faith's Flock
DESCRIPTION:Join us to check out the remodel of Faith's Flock Preschool
X-ALT-DESC;FMTTYPE=text/html:Join us to check out the remodel of Faith&#39\;s Flock Preschool
LOCATION:602 S 14th St
UID:e.2561.3266
SEQUENCE:3
DTSTAMP:20260424T092451Z
URL:https://business.adelpartners.org/events/details/ribbon-cutting-faith-s-flock-3266
END:VEVENT

END:VCALENDAR
