BEGIN:VCALENDAR
VERSION:2.0
PRODID:-//ChamberMaster//Event Calendar 2.0//EN
METHOD:PUBLISH
X-PUBLISHED-TTL:P3D
REFRESH-INTERVAL:P3D
CALSCALE:GREGORIAN
BEGIN:VEVENT
DTSTART:20200219T220000Z
DTEND:20200219T230000Z
X-MICROSOFT-CDO-ALLDAYEVENT:FALSE
SUMMARY:Ribbon Cutting Raccoon Valley Bank Ice Skating Rink
DESCRIPTION:Cutting the ribbon for the Raccoon Valley Bank Ice skating Rink
X-ALT-DESC;FMTTYPE=text/html:Cutting the ribbon for the Raccoon Valley Bank Ice skating Rink
LOCATION:10th and Main Street at Stage and Pavilion
UID:e.2561.3281
SEQUENCE:3
DTSTAMP:20260424T021320Z
URL:https://business.adelpartners.org/events/details/ribbon-cutting-raccoon-valley-bank-ice-skating-rink-3281
END:VEVENT

END:VCALENDAR
