BEGIN:VCALENDAR
VERSION:2.0
PRODID:-//ChamberMaster//Event Calendar 2.0//EN
METHOD:PUBLISH
X-PUBLISHED-TTL:P3D
REFRESH-INTERVAL:P3D
CALSCALE:GREGORIAN
BEGIN:VEVENT
DTSTART:20180531T213000Z
DTEND:20180531T223000Z
X-MICROSOFT-CDO-ALLDAYEVENT:FALSE
SUMMARY:Ribbon Cutting Tranformational Wealth LLC
DESCRIPTION:Join Ashley Miller and Transformational Wealth LLC atheBrickyards Burgers and Brews for her ribbon cuttiing
X-ALT-DESC;FMTTYPE=text/html:Join Ashley Miller and Transformational Wealth LLC atheBrickyards Burgers and Brews for her ribbon cuttiing<br />\n&nbsp\;
LOCATION:Brickyard Burgers and Brews 1802 Greene St
UID:e.2561.3227
SEQUENCE:3
DTSTAMP:20260425T121651Z
URL:https://business.adelpartners.org/events/details/ribbon-cutting-tranformational-wealth-llc-3227
END:VEVENT

END:VCALENDAR
