BEGIN:VCALENDAR
VERSION:2.0
PRODID:-//ChamberMaster//Event Calendar 2.0//EN
METHOD:PUBLISH
X-PUBLISHED-TTL:P3D
REFRESH-INTERVAL:P3D
CALSCALE:GREGORIAN
BEGIN:VEVENT
DTSTART:20190622T000000Z
DTEND:20190622T030000Z
X-MICROSOFT-CDO-ALLDAYEVENT:FALSE
SUMMARY:Rock'n Friday
DESCRIPTION:The Chamber and  BigDeal Car Care host an evening of music and fun.  Red Dirt Renage will be performing at the Stage and Pavilion (10th and Main Street).  Bring your own basket of snacks\, food\, regular or adult beverages along with chairs and friends and family to enjoy the evening.
X-ALT-DESC;FMTTYPE=text/html:The Chamber and&nbsp\; BigDeal Car Care host an evening of music and fun.&nbsp\; Red Dirt Renage will be performing at the Stage and Pavilion (10th and Main Street).&nbsp\; Bring your own basket of snacks\, food\, regular or adult beverages along with chairs and friends and family to enjoy the evening.
LOCATION:Stage and Pavilion at 10th and Main Street
UID:e.2561.3242
SEQUENCE:3
DTSTAMP:20260424T162738Z
URL:https://business.adelpartners.org/events/details/rock-n-friday-3242
END:VEVENT

END:VCALENDAR
