BEGIN:VCALENDAR
VERSION:2.0
PRODID:-//ChamberMaster//Event Calendar 2.0//EN
METHOD:PUBLISH
X-PUBLISHED-TTL:P3D
REFRESH-INTERVAL:P3D
CALSCALE:GREGORIAN
BEGIN:VEVENT
DTSTART:20200718T000000Z
DTEND:20200718T030000Z
X-MICROSOFT-CDO-ALLDAYEVENT:FALSE
SUMMARY:Rock'n Friday
DESCRIPTION:Presented by Raccoon Valley Bank.  Bring your friends and family to hear Brick and Bob.  Free event.  Bring your own chairs\, food and drinks-regular or adult.
X-ALT-DESC;FMTTYPE=text/html:Presented by Raccoon Valley Bank.&nbsp\; Bring your friends and family to hear Brick and Bob.&nbsp\; Free event.&nbsp\; Bring your own chairs\, food and drinks-regular or adult.
LOCATION:Stage and Pavilion 10th and Main St
UID:e.2561.3290
SEQUENCE:3
DTSTAMP:20260423T192441Z
URL:https://business.adelpartners.org/events/details/rock-n-friday-3290
END:VEVENT

END:VCALENDAR
