BEGIN:VCALENDAR
VERSION:2.0
PRODID:-//ChamberMaster//Event Calendar 2.0//EN
METHOD:PUBLISH
X-PUBLISHED-TTL:P3D
REFRESH-INTERVAL:P3D
CALSCALE:GREGORIAN
BEGIN:VEVENT
DTSTART:20190921T210000Z
DTEND:20190922T000000Z
X-MICROSOFT-CDO-ALLDAYEVENT:FALSE
SUMMARY:Rock'n Saturday
DESCRIPTION:Join BigDeal Car Care and the Adel Partners Chamber as they present Red Dirt Renegade at the stage and pavilion.  Bring your friends and family along with chairs\, food and drinks(regular or adult) to hear the FREE music
X-ALT-DESC;FMTTYPE=text/html:Join BigDeal Car Care and the Adel Partners Chamber as they present Red Dirt Renegade at the stage and pavilion.&nbsp\; Bring your friends and family along with chairs\, food and drinks(regular or adult) to hear the FREE music
LOCATION:10th and Main Street Stage and Pavilion
UID:e.2561.3262
SEQUENCE:3
DTSTAMP:20260424T092226Z
URL:https://business.adelpartners.org/events/details/rock-n-saturday-3262
END:VEVENT

END:VCALENDAR
