BEGIN:VCALENDAR
VERSION:2.0
PRODID:-//ChamberMaster//Event Calendar 2.0//EN
METHOD:PUBLISH
X-PUBLISHED-TTL:P3D
REFRESH-INTERVAL:P3D
CALSCALE:GREGORIAN
BEGIN:VEVENT
DTSTART:20200926T140000Z
DTEND:20200927T040000Z
X-MICROSOFT-CDO-ALLDAYEVENT:FALSE
SUMMARY:RRVT Clean-up Day
DESCRIPTION:The Adel Partners Chamber has scheduled a fall clean-up day and planting along the RRVT.  Join us at 9am to help beautify the trail.
X-ALT-DESC;FMTTYPE=text/html:The Adel Partners Chamber has scheduled a fall clean-up day and planting along the RRVT.&nbsp\; Join us at 9am to help beautify the trail.
LOCATION:Raccoon River Valley Trail at Pedal Plaza Hwy 169 and RRVT Parking is available in the Lincoln Savings Bank parking lot.
UID:e.2561.3298
SEQUENCE:3
DTSTAMP:20260423T165002Z
URL:https://business.adelpartners.org/events/details/rrvt-clean-up-day-3298
END:VEVENT

END:VCALENDAR
