BEGIN:VCALENDAR
VERSION:2.0
PRODID:-//ChamberMaster//Event Calendar 2.0//EN
METHOD:PUBLISH
X-PUBLISHED-TTL:P3D
REFRESH-INTERVAL:P3D
CALSCALE:GREGORIAN
BEGIN:VEVENT
DTSTART:20190330T130000Z
DTEND:20190330T160000Z
X-MICROSOFT-CDO-ALLDAYEVENT:FALSE
SUMMARY:RRVT Trail Clean-UP
DESCRIPTION:The Adel Partners Trail committeewill be spending the morning cleaning the RRVT trail of winter trash as well as brush and down trees.\n\nTrash bags will be provided but bring gloves and tools to clean up brush and dead trees.
X-ALT-DESC;FMTTYPE=text/html:The Adel Partners Trail committeewill be spending the morning cleaning the RRVT trail of winter trash as well as brush and down trees.<br />\nTrash bags will be provided but bring gloves and tools to clean up brush and dead trees.
LOCATION:Meeting at Adel Family Fun Center then hitting the trail
UID:e.2561.3248
SEQUENCE:3
DTSTAMP:20260424T204108Z
URL:https://business.adelpartners.org/events/details/rrvt-trail-clean-up-3248
END:VEVENT

END:VCALENDAR
