BEGIN:VCALENDAR
VERSION:2.0
PRODID:-//ChamberMaster//Event Calendar 2.0//EN
METHOD:PUBLISH
X-PUBLISHED-TTL:P3D
REFRESH-INTERVAL:P3D
CALSCALE:GREGORIAN
BEGIN:VEVENT
DTSTART:20231005T213000Z
DTEND:20231005T220000Z
X-MICROSOFT-CDO-ALLDAYEVENT:FALSE
SUMMARY:Southbridge Superwash Ribbon Cutting
DESCRIPTION:Join us to welcome Southbridge Superwash to Adel
X-ALT-DESC;FMTTYPE=text/html:Join us to welcome Southbridge Superwash to Adel
LOCATION:621 Common Place
UID:e.2561.3516
SEQUENCE:3
DTSTAMP:20260421T082635Z
URL:https://business.adelpartners.org/events/details/southbridge-superwash-ribbon-cutting-3516
END:VEVENT

END:VCALENDAR
