BEGIN:VCALENDAR
VERSION:2.0
PRODID:-//ChamberMaster//Event Calendar 2.0//EN
METHOD:PUBLISH
X-PUBLISHED-TTL:P3D
REFRESH-INTERVAL:P3D
CALSCALE:GREGORIAN
BEGIN:VEVENT
DTSTART;VALUE=DATE:20180323
DTEND;VALUE=DATE:20180420
TRANSP:TRANSPARENT
X-MICROSOFT-CDO-ALLDAYEVENT:TRUE
SUMMARY:Spring Bowling Leagues Now Forming!
DESCRIPTION:The Adel Family Fun Center\, Bowling\, Bar & Grill is now forming fun\, short season bowling leagues for all ages!  Starting the end of March through May!  We have multiple leagues for multiple levels and you can sign up and find more information on our website and our Facebook or by stopping in today!
X-ALT-DESC;FMTTYPE=text/html:The Adel Family Fun Center\, Bowling\, Bar &amp\; Grill is now forming fun\, short season bowling leagues for all ages!&nbsp\; Starting the end of March through May!&nbsp\; We have multiple leagues for multiple levels and you can sign up and find more information on our website and our Facebook or by stopping in today!
LOCATION:
UID:e.2561.1220
SEQUENCE:3
DTSTAMP:20260425T134821Z
URL:https://business.adelpartners.org/events/details/spring-bowling-leagues-now-forming-1220
END:VEVENT

END:VCALENDAR
