BEGIN:VCALENDAR
VERSION:2.0
PRODID:-//ChamberMaster//Event Calendar 2.0//EN
METHOD:PUBLISH
X-PUBLISHED-TTL:P3D
REFRESH-INTERVAL:P3D
CALSCALE:GREGORIAN
BEGIN:VEVENT
DTSTART:20210627T210000Z
DTEND:20210628T000000Z
X-MICROSOFT-CDO-ALLDAYEVENT:FALSE
SUMMARY:Sunday FunDay
DESCRIPTION:Afternoon with Hilly Billy Air Show at the Stage and Pavilion\n\nFree Music\, \n\nBring your chairs\,  friends\, family\,  food and drink (regular or adult)
X-ALT-DESC;FMTTYPE=text/html:Afternoon with Hilly Billy Air Show at the Stage and Pavilion<br />\nFree Music\,&nbsp\;<br />\nBring your chairs\,&nbsp\; friends\, family\,&nbsp\; food and drink (regular or adult)
LOCATION:10th and Main St Stage and Pavlion
UID:e.2561.3312
SEQUENCE:3
DTSTAMP:20260426T013909Z
URL:https://business.adelpartners.org/events/details/sunday-funday-3312
END:VEVENT

END:VCALENDAR
