BEGIN:VCALENDAR
VERSION:2.0
PRODID:-//ChamberMaster//Event Calendar 2.0//EN
METHOD:PUBLISH
X-PUBLISHED-TTL:P3D
REFRESH-INTERVAL:P3D
CALSCALE:GREGORIAN
BEGIN:VEVENT
DTSTART:20220813T130000Z
DTEND:20220813T143000Z
X-MICROSOFT-CDO-ALLDAYEVENT:FALSE
SUMMARY:Sweet Corn 5K Run
DESCRIPTION:The Adel Sweet Corn 5 K run is hosted the second Saturday in August takes place on the scenic brick streets in Adel along the parade route in front of hundreds of spectators. Join us for this challenging 5K around beautiful Adel.\n\nRegister and Volunteer Here
X-ALT-DESC;FMTTYPE=text/html:&nbsp\;\n<p style="box-sizing: inherit\; color: rgb(85\, 85\, 85)\; font-size: 1.2rem\; padding: 0px\; margin: 0px 0px 10px\; line-height: 1.8rem\; font-family: Roboto\, &quot\;Helvetica Neue&quot\;\, Helvetica\, sans-serif\; background-color: rgb(255\, 255\, 255)\;">The Adel Sweet Corn 5 K run is hosted the second Saturday in August takes place on the scenic brick streets in Adel along the parade route in front of hundreds of spectators. Join us for this challenging 5K around beautiful Adel.</p>\n\n<p style="box-sizing: inherit\; color: rgb(85\, 85\, 85)\; font-size: 1.2rem\; padding: 0px\; margin: 0px 0px 10px\; line-height: 1.8rem\; font-family: Roboto\, &quot\;Helvetica Neue&quot\;\, Helvetica\, sans-serif\; background-color: rgb(255\, 255\, 255)\;"><a href="http://bit.ly/3KOzkx8">Register and Volunteer Here</a></p>\n
LOCATION:Start and Finish 215 N 11th St Adel\, IA US 50003
UID:e.2561.3473
SEQUENCE:3
DTSTAMP:20260422T073930Z
URL:https://business.adelpartners.org/events/details/sweet-corn-5k-run-3473
END:VEVENT

END:VCALENDAR
