BEGIN:VCALENDAR
VERSION:2.0
PRODID:-//ChamberMaster//Event Calendar 2.0//EN
METHOD:PUBLISH
X-PUBLISHED-TTL:P3D
REFRESH-INTERVAL:P3D
CALSCALE:GREGORIAN
BEGIN:VEVENT
DTSTART;VALUE=DATE:20210814
DTEND;VALUE=DATE:20210815
TRANSP:TRANSPARENT
X-MICROSOFT-CDO-ALLDAYEVENT:TRUE
SUMMARY:Sweet Corn Festival
DESCRIPTION:Largest Event in Dallas County
X-ALT-DESC;FMTTYPE=text/html:Largest Event in Dallas County
LOCATION:Adel Downtown
UID:e.2561.3309
SEQUENCE:3
DTSTAMP:20260426T013606Z
URL:https://business.adelpartners.org/events/details/sweet-corn-festival-3309
END:VEVENT

END:VCALENDAR
