BEGIN:VCALENDAR
VERSION:2.0
PRODID:-//ChamberMaster//Event Calendar 2.0//EN
METHOD:PUBLISH
X-PUBLISHED-TTL:P3D
REFRESH-INTERVAL:P3D
CALSCALE:GREGORIAN
BEGIN:VEVENT
DTSTART;VALUE=DATE:20220813
DTEND;VALUE=DATE:20220814
TRANSP:TRANSPARENT
X-MICROSOFT-CDO-ALLDAYEVENT:TRUE
SUMMARY:Sweet Corn Festival
DESCRIPTION:The 43nd annual Sweet Corn Festival will be  held on Saturday\, August 13\, 2022. The Adel Partners Chamber and the City of Adel are hosting a 175 year birthday bash.\n\nVendor Registration Click Here
X-ALT-DESC;FMTTYPE=text/html:<p style="box-sizing: border-box\; margin: 0px 0px 10px\; color: rgb(58\, 58\, 58)\; font-family: Montserrat\, sans-serif\; font-size: 16px\;">The 43<span style="box-sizing: border-box\; font-size: 12px\; line-height: 0\; position: relative\; vertical-align: baseline\; top: -0.5em\;">nd</span>&nbsp\;annual Sweet Corn Festival will be&nbsp\; held on Saturday\, August 13\, 2022. The Adel Partners Chamber and the City of Adel are hosting a 175 year birthday bash.</p>\n\n<p style="box-sizing: border-box\; margin: 0px 0px 10px\; color: rgb(58\, 58\, 58)\; font-family: Montserrat\, sans-serif\; font-size: 16px\;"><span style="font-size:14px\;"><span style="font-family:verdana\;"><a href="https://chambermaster.blob.core.windows.net/userfiles/UserFiles/chambers/2561/File/2022SCVendorPacket.pdf"><span style="color:#FF0000\;">Vendor Registration</span></a><span style="color:#FF0000\;">&nbsp\;Click Here</span></span></span></p>\n\n<p style="box-sizing: border-box\; margin: 0px 0px 10px\; color: rgb(58\, 58\, 58)\; font-family: Montserrat\, sans-serif\; font-size: 16px\;">&nbsp\;</p>\n
LOCATION:Adel Downtown
UID:e.2561.3448
SEQUENCE:3
DTSTAMP:20260422T074339Z
URL:https://business.adelpartners.org/events/details/sweet-corn-festival-3448
END:VEVENT

END:VCALENDAR
