BEGIN:VCALENDAR
VERSION:2.0
PRODID:-//ChamberMaster//Event Calendar 2.0//EN
METHOD:PUBLISH
X-PUBLISHED-TTL:P3D
REFRESH-INTERVAL:P3D
CALSCALE:GREGORIAN
BEGIN:VEVENT
DTSTART:20220812T213000Z
DTEND:20220813T010000Z
X-MICROSOFT-CDO-ALLDAYEVENT:FALSE
SUMMARY:Sweet Corn Festival
DESCRIPTION:Friday Aug 12\, 2022 starting at 4:30pm husking of the corn begins.  Join us at the southside of the police/fire department station.  Following the husking at 6:30 pm will be the Princess Contest.
X-ALT-DESC;FMTTYPE=text/html:<span style="color: rgb(58\, 58\, 58)\; font-family: Montserrat\, sans-serif\; font-size: 16px\; background-color: rgb(255\, 255\, 255)\;">Friday Aug 12\, 2022 starting at 4:30pm husking of the corn begins.&nbsp\; Join us at the southside of the police/fire department station.&nbsp\; Following the husking at 6:30 pm will be the Princess Contest.</span>
LOCATION:Southside Parking lot of the Police and Fire Station 10th St and Prairie St
UID:e.2561.3449
SEQUENCE:3
DTSTAMP:20260422T074328Z
URL:https://business.adelpartners.org/events/details/sweet-corn-festival-3449
END:VEVENT

END:VCALENDAR
