BEGIN:VCALENDAR
VERSION:2.0
PRODID:-//ChamberMaster//Event Calendar 2.0//EN
METHOD:PUBLISH
X-PUBLISHED-TTL:P3D
REFRESH-INTERVAL:P3D
CALSCALE:GREGORIAN
BEGIN:VEVENT
DTSTART;VALUE=DATE:20230811
DTEND;VALUE=DATE:20230812
TRANSP:TRANSPARENT
X-MICROSOFT-CDO-ALLDAYEVENT:TRUE
SUMMARY:Sweet Corn Festival
DESCRIPTION:Largest Event in Dallas County\n\n5k run\, Parade FREE sweet corn\,\,\,\, live music
X-ALT-DESC;FMTTYPE=text/html:Largest Event in Dallas County<br />\n5k run\, Parade FREE sweet corn\,\,\,\, live music
LOCATION:Adel Downtown
UID:e.2561.3487
SEQUENCE:3
DTSTAMP:20260421T114014Z
URL:https://business.adelpartners.org/events/details/sweet-corn-festival-3487
END:VEVENT

END:VCALENDAR
