BEGIN:VCALENDAR
VERSION:2.0
PRODID:-//ChamberMaster//Event Calendar 2.0//EN
METHOD:PUBLISH
X-PUBLISHED-TTL:P3D
REFRESH-INTERVAL:P3D
CALSCALE:GREGORIAN
BEGIN:VEVENT
DTSTART;VALUE=DATE:20190810
DTEND;VALUE=DATE:20190811
TRANSP:TRANSPARENT
X-MICROSOFT-CDO-ALLDAYEVENT:TRUE
SUMMARY:Sweet Corn Festival 40th Year
DESCRIPTION:40th Annual Sweet Corn Festival
X-ALT-DESC;FMTTYPE=text/html:40th Annual Sweet Corn Festival
LOCATION:Adel Iowa
UID:e.2561.3240
SEQUENCE:3
DTSTAMP:20260424T121628Z
URL:https://business.adelpartners.org/events/details/sweet-corn-festival-40th-year-3240
END:VEVENT

END:VCALENDAR
