BEGIN:VCALENDAR
VERSION:2.0
PRODID:-//ChamberMaster//Event Calendar 2.0//EN
METHOD:PUBLISH
X-PUBLISHED-TTL:P3D
REFRESH-INTERVAL:P3D
CALSCALE:GREGORIAN
BEGIN:VEVENT
DTSTART:20320809T123000Z
DTEND:20320809T140000Z
X-MICROSOFT-CDO-ALLDAYEVENT:FALSE
SUMMARY:2025 Sweet Corn Festival 5K
DESCRIPTION:The Adel Sweet Corn 5K run/walk is hosted the second Saturday in August and takes place on the scenic brick streets in Adel along the parade route in front of hundreds of spectators. Join us for this challenging 5K around beautiful Adel.\n\nAward Ceremony at 8:30AM at Start/Finish line.  Medals are awarded for the top 3 finishes in both men's and women's categories. The top 2 men's and top 2 women's in age categories also receive medals.\n\n14 and under\, 15-19\, 20-29\, 30-39\, 40-49\, 50-59 and 60 +
X-ALT-DESC;FMTTYPE=text/html:<p style="box-sizing: border-box\; color: rgb(85\, 85\, 85)\; font-size: 1.1rem\; line-height: 1.6rem\; padding: 0px\; font-family: Roboto\, &quot\;Helvetica Neue&quot\;\, Helvetica\, sans-serif\;">The Adel Sweet Corn 5K run/walk is hosted the second Saturday in August and takes place on the scenic brick streets in Adel along the parade route in front of hundreds of spectators. Join us for this challenging 5K around beautiful Adel.</p>\n\n<p style="box-sizing: border-box\; color: rgb(85\, 85\, 85)\; font-size: 1.1rem\; line-height: 1.6rem\; padding: 0px\; font-family: Roboto\, &quot\;Helvetica Neue&quot\;\, Helvetica\, sans-serif\;">Award Ceremony at 8:30AM at Start/Finish line.&nbsp\; Medals are awarded for the top 3 finishes in both men&#39\;s and women&#39\;s categories. The top 2 men&#39\;s and top 2 women&#39\;s in age categories also receive medals.</p>\n\n<p style="box-sizing: border-box\; color: rgb(85\, 85\, 85)\; font-size: 1.1rem\; line-height: 1.6rem\; padding: 0px\; font-family: Roboto\, &quot\;Helvetica Neue&quot\;\, Helvetica\, sans-serif\;">14 and under\, 15-19\, 20-29\, 30-39\, 40-49\, 50-59 and 60 +</p>\n
LOCATION:
UID:e.2561.3585
SEQUENCE:3
DTSTAMP:20260420T142245Z
URL:https://business.adelpartners.org/events/details/sweet-corn-festival-5k-08-09-2032-3585
END:VEVENT

END:VCALENDAR
