BEGIN:VCALENDAR
VERSION:2.0
PRODID:-//ChamberMaster//Event Calendar 2.0//EN
METHOD:PUBLISH
X-PUBLISHED-TTL:P3D
REFRESH-INTERVAL:P3D
CALSCALE:GREGORIAN
BEGIN:VEVENT
DTSTART:20210425T000000Z
DTEND:20210425T030000Z
X-MICROSOFT-CDO-ALLDAYEVENT:FALSE
SUMMARY:The Rooted Bean Presents Jake Kemble and Kick
DESCRIPTION:Jake Kemble and Kick will be preforming live at The Rooted Bean
X-ALT-DESC;FMTTYPE=text/html:Jake Kemble and Kick will be preforming live at The Rooted Bean
LOCATION:April 23 and 24th
UID:e.2561.3319
SEQUENCE:3
DTSTAMP:20260423T110015Z
URL:https://business.adelpartners.org/events/details/the-rooted-bean-presents-jake-kemble-and-kick-3319
END:VEVENT

END:VCALENDAR
