BEGIN:VCALENDAR
VERSION:2.0
PRODID:-//ChamberMaster//Event Calendar 2.0//EN
METHOD:PUBLISH
X-PUBLISHED-TTL:P3D
REFRESH-INTERVAL:P3D
CALSCALE:GREGORIAN
BEGIN:VEVENT
DTSTART:20221210T150000Z
DTEND:20221210T210000Z
X-MICROSOFT-CDO-ALLDAYEVENT:FALSE
SUMMARY:Vendor & Craft Fair
DESCRIPTION:The annual Vendor & Craft Fair at Grace Lutheran Church in Adel is Dec. 10 from 9am-3pm. Shop local artisans with handmade jewelry\, home and seasonal decor\, and more! Tastefully Simple\, Scentsy\, and other in-demand vendors will also be on display. Breakfast and lunch specials will be available for purchase and door prizes will be drawn throughout the day! And don't miss the annual Bake Sale featuring homemade goodies from some of the BEST bakers in town! All proceeds from the Bake Sale go to the Good Samaritan Food Pantry.
X-ALT-DESC;FMTTYPE=text/html:The annual Vendor &amp\; Craft Fair at Grace Lutheran Church in Adel is Dec. 10 from 9am-3pm. Shop local artisans with handmade jewelry\, home and seasonal decor\, and more! Tastefully Simple\, Scentsy\, and other in-demand vendors will also be on display. Breakfast and lunch specials will be available for purchase and door prizes will be drawn throughout the day! And don&#39\;t miss the annual Bake Sale featuring homemade goodies from some of the BEST bakers in town! All proceeds from the Bake Sale go to the Good Samaritan Food Pantry.
LOCATION:Grace Lutheran Church 3932 Meadow Rd Adel\, IA 50003
UID:e.2561.3481
SEQUENCE:3
DTSTAMP:20260422T060809Z
URL:https://business.adelpartners.org/events/details/vendor-craft-fair-3481
END:VEVENT

END:VCALENDAR
